View In:
ArcGIS JavaScript
ArcGIS Online Map Viewer
ArcGIS Earth
Service Description: AMRD_Files/AMRD_UpperMobileBay_MultibeamSonar
Name: AMRD_Files/AMRD_UpperMobileBay_MultibeamSonar
Description:
Single Fused Map Cache: false
Extent:
XMin: 1717464.4850557458
YMin: 86525.57006830614
XMax: 1872579.493297392
YMax: 242185.10826083517
Spatial Reference: 102630
(102630)
LatestVCSWkid(0)
Initial Extent:
XMin: 1717464.4850557458
YMin: 86525.57006830614
XMax: 1872579.493297392
YMax: 242185.10826083517
Spatial Reference: 102630
(102630)
LatestVCSWkid(0)
Full Extent:
XMin: 1717464.4850557458
YMin: 86525.57006830614
XMax: 1872579.493297392
YMax: 242185.10826083517
Spatial Reference: 102630
(102630)
LatestVCSWkid(0)
Pixel Size X: 1.2739615322331692
Pixel Size Y: 1.2732574103909844
Band Count: 3
Pixel Type: U8
RasterFunction Infos: {"rasterFunctionInfos": [{
"name": "None",
"description": "",
"help": ""
}]}
Mensuration Capabilities: Basic
Inspection Capabilities:
Has Histograms: true
Has Colormap: false
Has Multi Dimensions : false
Rendering Rule:
Min Scale: 0
Max Scale: 0
Copyright Text:
Service Data Type: esriImageServiceDataTypeRGB
Min Values: 0, 0, 0
Max Values: 255, 255, 255
Mean Values: 5.72323279627319, 115.36111440781715, 129.37682098458532
Standard Deviation Values: 25.709829556372252, 39.69251133928081, 56.70272274977134
Object ID Field:
Fields:
None
Default Mosaic Method: Center
Allowed Mosaic Methods:
SortField:
SortValue: null
Mosaic Operator: First
Default Compression Quality: 75
Default Resampling Method: Bilinear
Max Record Count: null
Max Image Height: 4100
Max Image Width: 15000
Max Download Image Count: null
Max Mosaic Image Count: null
Allow Raster Function: true
Allow Copy: true
Allow Analysis: true
Allow Compute TiePoints: false
Supports Statistics: false
Supports Advanced Queries: false
Use StandardizedQueries: true
Raster Type Infos:
Name: Raster Dataset
Description: Supports all ArcGIS Raster Datasets
Help:
Has Raster Attribute Table: false
Edit Fields Info: null
Ownership Based AccessControl For Rasters: null
Child Resources:
Info
Histograms
Statistics
Key Properties
Legend
Raster Function Infos
Supported Operations:
Export Image
Identify
Measure
Compute Histograms
Compute Statistics Histograms
Get Samples
Compute Class Statistics
Query Boundary
Compute Pixel Location
Compute Angles
Validate
Project