{
 "currentVersion": 11.4,
 "serviceDescription": "AMRD_Files/AMRD_UpperMobileBay_MultibeamSonar",
 "name": "AMRD_Files/AMRD_UpperMobileBay_MultibeamSonar",
 "description": "",
 "extent": {
  "xmin": 1717464.4850557458,
  "ymin": 86525.57006830614,
  "xmax": 1872579.493297392,
  "ymax": 242185.10826083517,
  "spatialReference": {
   "wkid": 102630,
   "latestWkid": 102630
  }
 },
 "initialExtent": {
  "xmin": 1717464.4850557458,
  "ymin": 86525.57006830614,
  "xmax": 1872579.493297392,
  "ymax": 242185.10826083517,
  "spatialReference": {
   "wkid": 102630,
   "latestWkid": 102630
  }
 },
 "fullExtent": {
  "xmin": 1717464.4850557458,
  "ymin": 86525.57006830614,
  "xmax": 1872579.493297392,
  "ymax": 242185.10826083517,
  "spatialReference": {
   "wkid": 102630,
   "latestWkid": 102630
  }
 },
 "sortableFields": "",
 "bandCount": 3,
 "pixelType": "U8",
 "minValues": [
  0,
  0,
  0
 ],
 "maxValues": [
  255,
  255,
  255
 ],
 "meanValues": [
  5.72323279627319,
  115.36111440781715,
  129.37682098458532
 ],
 "stdvValues": [
  25.709829556372252,
  39.69251133928081,
  56.70272274977134
 ],
 "hasMultidimensions": false,
 "pixelSizeX": 1.2739615322331692,
 "pixelSizeY": 1.2732574103909844,
 "meanPixelSize": 0.3881969432498076,
 "datasetFormat": "FGDBR",
 "uncompressedSize": 44655842322,
 "blockWidth": 128,
 "blockHeight": 128,
 "compressionType": "LZ77",
 "bandNames": [
  "Band_1",
  "Band_2",
  "Band_3"
 ],
 "allowCopy": true,
 "allowAnalysis": true,
 "itemAccess": false,
 "inspectionCapabilities": "",
 "minPixelSize": 0,
 "maxPixelSize": 0,
 "copyrightText": "",
 "serviceDataType": "esriImageServiceDataTypeRGB",
 "serviceSourceType": "esriImageServiceSourceTypeDataset",
 "objectIdField": "",
 "fields": [],
 "capabilities": "Image,Metadata,Mensuration",
 "defaultMosaicMethod": "Center",
 "allowedMosaicMethods": "",
 "sortField": "",
 "sortValue": null,
 "sortAscending": true,
 "mosaicOperator": "First",
 "defaultCompressionQuality": 75,
 "defaultResamplingMethod": "Bilinear",
 "maxImageHeight": 4100,
 "maxImageWidth": 15000,
 "allowRasterFunction": true,
 "rasterFunctionInfos": [
  {
   "name": "None",
   "description": "",
   "help": ""
  }
 ],
 "rasterTypeInfos": [
  {
   "name": "Raster Dataset",
   "description": "Supports all ArcGIS Raster Datasets",
   "help": ""
  }
 ],
 "mensurationCapabilities": "Basic",
 "hasHistograms": true,
 "hasColormap": false,
 "hasRasterAttributeTable": false,
 "minScale": 0,
 "maxScale": 0,
 "exportTilesAllowed": false,
 "supportsStatistics": false,
 "supportsAdvancedQueries": false,
 "editFieldsInfo": null,
 "ownershipBasedAccessControlForRasters": null,
 "allowComputeTiePoints": false,
 "useStandardizedQueries": true,
 "advancedQueryCapabilities": {
  "useStandardizedQueries": true,
  "supportsStatistics": false,
  "supportsOrderBy": false,
  "supportsDistinct": false,
  "supportsPagination": false
 },
 "spatialReference": {
  "wkid": 102630,
  "latestWkid": 102630
 }
}
