View In:
ArcGIS JavaScript
ArcGIS Online Map Viewer
ArcGIS Earth
Service Description: AMRD_Files/AMRD_PointClearArea_MultibeamSonar
Name: AMRD_Files/AMRD_PointClearArea_MultibeamSonar
Description:
Single Fused Map Cache: false
Extent:
XMin: 1821652.8810463708
YMin: 166017.57671383608
XMax: 1834531.3581757161
YMax: 180628.20549807264
Spatial Reference: 102630
(102630)
LatestVCSWkid(0)
Initial Extent:
XMin: 1821652.8810463708
YMin: 166017.57671383608
XMax: 1834531.3581757161
YMax: 180628.20549807264
Spatial Reference: 102630
(102630)
LatestVCSWkid(0)
Full Extent:
XMin: 1821652.8810463708
YMin: 166017.57671383608
XMax: 1834531.3581757161
YMax: 180628.20549807264
Spatial Reference: 102630
(102630)
LatestVCSWkid(0)
Pixel Size X: 1.2739615322331876
Pixel Size Y: 1.2732574103909853
Band Count: 3
Pixel Type: U8
RasterFunction Infos: {"rasterFunctionInfos": [{
"name": "None",
"description": "",
"help": ""
}]}
Mensuration Capabilities: Basic
Inspection Capabilities:
Has Histograms: true
Has Colormap: false
Has Multi Dimensions : false
Rendering Rule:
Min Scale: 0
Max Scale: 0
Copyright Text:
Service Data Type: esriImageServiceDataTypeRGB
Min Values: 0, 0, 0
Max Values: 255, 255, 255
Mean Values: 5.3082396630901005, 132.63057098090815, 117.8973104340788
Standard Deviation Values: 23.431797147120005, 30.393577597753236, 58.24121090312617
Object ID Field:
Fields:
None
Default Mosaic Method: Center
Allowed Mosaic Methods:
SortField:
SortValue: null
Mosaic Operator: First
Default Compression Quality: 75
Default Resampling Method: Bilinear
Max Record Count: null
Max Image Height: 4100
Max Image Width: 15000
Max Download Image Count: null
Max Mosaic Image Count: null
Allow Raster Function: true
Allow Copy: true
Allow Analysis: true
Allow Compute TiePoints: false
Supports Statistics: false
Supports Advanced Queries: false
Use StandardizedQueries: true
Raster Type Infos:
Name: Raster Dataset
Description: Supports all ArcGIS Raster Datasets
Help:
Has Raster Attribute Table: false
Edit Fields Info: null
Ownership Based AccessControl For Rasters: null
Child Resources:
Info
Histograms
Statistics
Key Properties
Legend
Raster Function Infos
Supported Operations:
Export Image
Identify
Measure
Compute Histograms
Compute Statistics Histograms
Get Samples
Compute Class Statistics
Query Boundary
Compute Pixel Location
Compute Angles
Validate
Project