{
 "currentVersion": 11.4,
 "serviceDescription": "AMRD_Files/AMRD_PointClearArea_MultibeamSonar",
 "name": "AMRD_Files/AMRD_PointClearArea_MultibeamSonar",
 "description": "",
 "extent": {
  "xmin": 1821652.8810463708,
  "ymin": 166017.57671383608,
  "xmax": 1834531.3581757161,
  "ymax": 180628.20549807264,
  "spatialReference": {
   "wkid": 102630,
   "latestWkid": 102630
  }
 },
 "initialExtent": {
  "xmin": 1821652.8810463708,
  "ymin": 166017.57671383608,
  "xmax": 1834531.3581757161,
  "ymax": 180628.20549807264,
  "spatialReference": {
   "wkid": 102630,
   "latestWkid": 102630
  }
 },
 "fullExtent": {
  "xmin": 1821652.8810463708,
  "ymin": 166017.57671383608,
  "xmax": 1834531.3581757161,
  "ymax": 180628.20549807264,
  "spatialReference": {
   "wkid": 102630,
   "latestWkid": 102630
  }
 },
 "sortableFields": "",
 "bandCount": 3,
 "pixelType": "U8",
 "minValues": [
  0,
  0,
  0
 ],
 "maxValues": [
  255,
  255,
  255
 ],
 "meanValues": [
  5.3082396630901005,
  132.63057098090815,
  117.8973104340788
 ],
 "stdvValues": [
  23.431797147120005,
  30.393577597753236,
  58.24121090312617
 ],
 "hasMultidimensions": false,
 "pixelSizeX": 1.2739615322331876,
 "pixelSizeY": 1.2732574103909853,
 "meanPixelSize": 0.3881969432498105,
 "datasetFormat": "FGDBR",
 "uncompressedSize": 348002325,
 "blockWidth": 128,
 "blockHeight": 128,
 "compressionType": "LZ77",
 "bandNames": [
  "Band_1",
  "Band_2",
  "Band_3"
 ],
 "allowCopy": true,
 "allowAnalysis": true,
 "itemAccess": false,
 "inspectionCapabilities": "",
 "minPixelSize": 0,
 "maxPixelSize": 0,
 "copyrightText": "",
 "serviceDataType": "esriImageServiceDataTypeRGB",
 "serviceSourceType": "esriImageServiceSourceTypeDataset",
 "objectIdField": "",
 "fields": [],
 "capabilities": "Image,Metadata,Mensuration",
 "defaultMosaicMethod": "Center",
 "allowedMosaicMethods": "",
 "sortField": "",
 "sortValue": null,
 "sortAscending": true,
 "mosaicOperator": "First",
 "defaultCompressionQuality": 75,
 "defaultResamplingMethod": "Bilinear",
 "maxImageHeight": 4100,
 "maxImageWidth": 15000,
 "allowRasterFunction": true,
 "rasterFunctionInfos": [
  {
   "name": "None",
   "description": "",
   "help": ""
  }
 ],
 "rasterTypeInfos": [
  {
   "name": "Raster Dataset",
   "description": "Supports all ArcGIS Raster Datasets",
   "help": ""
  }
 ],
 "mensurationCapabilities": "Basic",
 "hasHistograms": true,
 "hasColormap": false,
 "hasRasterAttributeTable": false,
 "minScale": 0,
 "maxScale": 0,
 "exportTilesAllowed": false,
 "supportsStatistics": false,
 "supportsAdvancedQueries": false,
 "editFieldsInfo": null,
 "ownershipBasedAccessControlForRasters": null,
 "allowComputeTiePoints": false,
 "useStandardizedQueries": true,
 "advancedQueryCapabilities": {
  "useStandardizedQueries": true,
  "supportsStatistics": false,
  "supportsOrderBy": false,
  "supportsDistinct": false,
  "supportsPagination": false
 },
 "spatialReference": {
  "wkid": 102630,
  "latestWkid": 102630
 }
}
