View In:
ArcGIS JavaScript
ArcGIS Online Map Viewer
ArcGIS Earth
Service Description: AMRD_Files/AMRD_LowerMobileBayReefs_MultibeamSonar
Name: AMRD_Files/AMRD_LowerMobileBayReefs_MultibeamSonar
Description:
Single Fused Map Cache: false
Extent:
XMin: 1717463.9192551821
YMin: 84896.92387649106
XMax: 1872579.878365778
YMax: 214222.42970087036
Spatial Reference: 102630
(102630)
LatestVCSWkid(0)
Initial Extent:
XMin: 1717463.9192551821
YMin: 84896.92387649106
XMax: 1872579.878365778
YMax: 214222.42970087036
Spatial Reference: 102630
(102630)
LatestVCSWkid(0)
Full Extent:
XMin: 1717463.9192551821
YMin: 84896.92387649106
XMax: 1872579.878365778
YMax: 214222.42970087036
Spatial Reference: 102630
(102630)
LatestVCSWkid(0)
Pixel Size X: 0.9719775867270456
Pixel Size Y: 0.9719775867270379
Band Count: 3
Pixel Type: U8
RasterFunction Infos: {"rasterFunctionInfos": [{
"name": "None",
"description": "",
"help": ""
}]}
Mensuration Capabilities: Basic
Inspection Capabilities:
Has Histograms: true
Has Colormap: false
Has Multi Dimensions : false
Rendering Rule:
Min Scale: 0
Max Scale: 0
Copyright Text:
Service Data Type: esriImageServiceDataTypeRGB
Min Values: 0, 0, 0
Max Values: 255, 255, 255
Mean Values: 12.263078843265427, 114.00277436036875, 129.85281237075546
Standard Deviation Values: 38.34390499532576, 50.56857239067039, 59.302068557207434
Object ID Field:
Fields:
None
Default Mosaic Method: Center
Allowed Mosaic Methods:
SortField:
SortValue: null
Mosaic Operator: First
Default Compression Quality: 75
Default Resampling Method: Bilinear
Max Record Count: null
Max Image Height: 4100
Max Image Width: 15000
Max Download Image Count: null
Max Mosaic Image Count: null
Allow Raster Function: true
Allow Copy: true
Allow Analysis: true
Allow Compute TiePoints: false
Supports Statistics: false
Supports Advanced Queries: false
Use StandardizedQueries: true
Raster Type Infos:
Name: Raster Dataset
Description: Supports all ArcGIS Raster Datasets
Help:
Has Raster Attribute Table: false
Edit Fields Info: null
Ownership Based AccessControl For Rasters: null
Child Resources:
Info
Histograms
Statistics
Key Properties
Legend
Raster Function Infos
Supported Operations:
Export Image
Identify
Measure
Compute Histograms
Compute Statistics Histograms
Get Samples
Compute Class Statistics
Query Boundary
Compute Pixel Location
Compute Angles
Validate
Project