{
 "currentVersion": 11.4,
 "serviceDescription": "AMRD_Files/AMRD_LowerMobileBayReefs_MultibeamSonar",
 "name": "AMRD_Files/AMRD_LowerMobileBayReefs_MultibeamSonar",
 "description": "",
 "extent": {
  "xmin": 1717463.9192551821,
  "ymin": 84896.92387649106,
  "xmax": 1872579.878365778,
  "ymax": 214222.42970087036,
  "spatialReference": {
   "wkid": 102630,
   "latestWkid": 102630
  }
 },
 "initialExtent": {
  "xmin": 1717463.9192551821,
  "ymin": 84896.92387649106,
  "xmax": 1872579.878365778,
  "ymax": 214222.42970087036,
  "spatialReference": {
   "wkid": 102630,
   "latestWkid": 102630
  }
 },
 "fullExtent": {
  "xmin": 1717463.9192551821,
  "ymin": 84896.92387649106,
  "xmax": 1872579.878365778,
  "ymax": 214222.42970087036,
  "spatialReference": {
   "wkid": 102630,
   "latestWkid": 102630
  }
 },
 "sortableFields": "",
 "bandCount": 3,
 "pixelType": "U8",
 "minValues": [
  0,
  0,
  0
 ],
 "maxValues": [
  255,
  255,
  255
 ],
 "meanValues": [
  12.263078843265427,
  114.00277436036875,
  129.85281237075546
 ],
 "stdvValues": [
  38.34390499532576,
  50.56857239067039,
  59.302068557207434
 ],
 "hasMultidimensions": false,
 "pixelSizeX": 0.9719775867270456,
 "pixelSizeY": 0.9719775867270379,
 "meanPixelSize": 0.2962593609531243,
 "datasetFormat": "FGDBR",
 "uncompressedSize": 63701465256,
 "blockWidth": 128,
 "blockHeight": 128,
 "compressionType": "LZ77",
 "bandNames": [
  "Band_1",
  "Band_2",
  "Band_3"
 ],
 "allowCopy": true,
 "allowAnalysis": true,
 "itemAccess": false,
 "inspectionCapabilities": "",
 "minPixelSize": 0,
 "maxPixelSize": 0,
 "copyrightText": "",
 "serviceDataType": "esriImageServiceDataTypeRGB",
 "serviceSourceType": "esriImageServiceSourceTypeDataset",
 "objectIdField": "",
 "fields": [],
 "capabilities": "Image,Metadata,Mensuration",
 "defaultMosaicMethod": "Center",
 "allowedMosaicMethods": "",
 "sortField": "",
 "sortValue": null,
 "sortAscending": true,
 "mosaicOperator": "First",
 "defaultCompressionQuality": 75,
 "defaultResamplingMethod": "Bilinear",
 "maxImageHeight": 4100,
 "maxImageWidth": 15000,
 "allowRasterFunction": true,
 "rasterFunctionInfos": [
  {
   "name": "None",
   "description": "",
   "help": ""
  }
 ],
 "rasterTypeInfos": [
  {
   "name": "Raster Dataset",
   "description": "Supports all ArcGIS Raster Datasets",
   "help": ""
  }
 ],
 "mensurationCapabilities": "Basic",
 "hasHistograms": true,
 "hasColormap": false,
 "hasRasterAttributeTable": false,
 "minScale": 0,
 "maxScale": 0,
 "exportTilesAllowed": false,
 "supportsStatistics": false,
 "supportsAdvancedQueries": false,
 "editFieldsInfo": null,
 "ownershipBasedAccessControlForRasters": null,
 "allowComputeTiePoints": false,
 "useStandardizedQueries": true,
 "advancedQueryCapabilities": {
  "useStandardizedQueries": true,
  "supportsStatistics": false,
  "supportsOrderBy": false,
  "supportsDistinct": false,
  "supportsPagination": false
 },
 "spatialReference": {
  "wkid": 102630,
  "latestWkid": 102630
 }
}
