View In:
ArcGIS JavaScript
ArcGIS Online Map Viewer
ArcGIS Earth
Service Description: AMRD_Files/AMRD_EasternShoreReefs_MultibeamSonar
Name: AMRD_Files/AMRD_EasternShoreReefs_MultibeamSonar
Description:
Single Fused Map Cache: false
Extent:
XMin: 1717463.9153176981
YMin: 86527.15044047727
XMax: 1872579.8874371827
YMax: 242185.21532323735
Spatial Reference: 102630
(102630)
LatestVCSWkid(0)
Initial Extent:
XMin: 1717463.9153176981
YMin: 86527.15044047727
XMax: 1872579.8874371827
YMax: 242185.21532323735
Spatial Reference: 102630
(102630)
LatestVCSWkid(0)
Full Extent:
XMin: 1717463.9153176981
YMin: 86527.15044047727
XMax: 1872579.8874371827
YMax: 242185.21532323735
Spatial Reference: 102630
(102630)
LatestVCSWkid(0)
Pixel Size X: 0.4119245921529529
Pixel Size Y: 0.41192459215295885
Band Count: 3
Pixel Type: U8
RasterFunction Infos: {"rasterFunctionInfos": [{
"name": "None",
"description": "",
"help": ""
}]}
Mensuration Capabilities: Basic
Inspection Capabilities:
Has Histograms: true
Has Colormap: false
Has Multi Dimensions : false
Rendering Rule:
Min Scale: 0
Max Scale: 0
Copyright Text:
Service Data Type: esriImageServiceDataTypeRGB
Min Values: 0, 0, 0
Max Values: 255, 255, 255
Mean Values: 7.530265337913608, 124.69980418579115, 111.4287971951967
Standard Deviation Values: 28.791721471479818, 36.73748579140005, 63.316202795720116
Object ID Field:
Fields:
None
Default Mosaic Method: Center
Allowed Mosaic Methods:
SortField:
SortValue: null
Mosaic Operator: First
Default Compression Quality: 75
Default Resampling Method: Bilinear
Max Record Count: null
Max Image Height: 4100
Max Image Width: 15000
Max Download Image Count: null
Max Mosaic Image Count: null
Allow Raster Function: true
Allow Copy: true
Allow Analysis: true
Allow Compute TiePoints: false
Supports Statistics: false
Supports Advanced Queries: false
Use StandardizedQueries: true
Raster Type Infos:
Name: Raster Dataset
Description: Supports all ArcGIS Raster Datasets
Help:
Has Raster Attribute Table: false
Edit Fields Info: null
Ownership Based AccessControl For Rasters: null
Child Resources:
Info
Histograms
Statistics
Key Properties
Legend
Raster Function Infos
Supported Operations:
Export Image
Identify
Measure
Compute Histograms
Compute Statistics Histograms
Get Samples
Compute Class Statistics
Query Boundary
Compute Pixel Location
Compute Angles
Validate
Project