{
 "currentVersion": 11.4,
 "serviceDescription": "AMRD_Files/AMRD_EasternShoreReefs_MultibeamSonar",
 "name": "AMRD_Files/AMRD_EasternShoreReefs_MultibeamSonar",
 "description": "",
 "extent": {
  "xmin": 1717463.9153176981,
  "ymin": 86527.15044047727,
  "xmax": 1872579.8874371827,
  "ymax": 242185.21532323735,
  "spatialReference": {
   "wkid": 102630,
   "latestWkid": 102630
  }
 },
 "initialExtent": {
  "xmin": 1717463.9153176981,
  "ymin": 86527.15044047727,
  "xmax": 1872579.8874371827,
  "ymax": 242185.21532323735,
  "spatialReference": {
   "wkid": 102630,
   "latestWkid": 102630
  }
 },
 "fullExtent": {
  "xmin": 1717463.9153176981,
  "ymin": 86527.15044047727,
  "xmax": 1872579.8874371827,
  "ymax": 242185.21532323735,
  "spatialReference": {
   "wkid": 102630,
   "latestWkid": 102630
  }
 },
 "sortableFields": "",
 "bandCount": 3,
 "pixelType": "U8",
 "minValues": [
  0,
  0,
  0
 ],
 "maxValues": [
  255,
  255,
  255
 ],
 "meanValues": [
  7.530265337913608,
  124.69980418579115,
  111.4287971951967
 ],
 "stdvValues": [
  28.791721471479818,
  36.73748579140005,
  63.316202795720116
 ],
 "hasMultidimensions": false,
 "pixelSizeX": 0.4119245921529529,
 "pixelSizeY": 0.41192459215295885,
 "meanPixelSize": 0.12555486679795455,
 "datasetFormat": "FGDBR",
 "uncompressedSize": 426888012960,
 "blockWidth": 128,
 "blockHeight": 128,
 "compressionType": "LZ77",
 "bandNames": [
  "Band_1",
  "Band_2",
  "Band_3"
 ],
 "allowCopy": true,
 "allowAnalysis": true,
 "itemAccess": false,
 "inspectionCapabilities": "",
 "minPixelSize": 0,
 "maxPixelSize": 0,
 "copyrightText": "",
 "serviceDataType": "esriImageServiceDataTypeRGB",
 "serviceSourceType": "esriImageServiceSourceTypeDataset",
 "objectIdField": "",
 "fields": [],
 "capabilities": "Image,Metadata,Mensuration",
 "defaultMosaicMethod": "Center",
 "allowedMosaicMethods": "",
 "sortField": "",
 "sortValue": null,
 "sortAscending": true,
 "mosaicOperator": "First",
 "defaultCompressionQuality": 75,
 "defaultResamplingMethod": "Bilinear",
 "maxImageHeight": 4100,
 "maxImageWidth": 15000,
 "allowRasterFunction": true,
 "rasterFunctionInfos": [
  {
   "name": "None",
   "description": "",
   "help": ""
  }
 ],
 "rasterTypeInfos": [
  {
   "name": "Raster Dataset",
   "description": "Supports all ArcGIS Raster Datasets",
   "help": ""
  }
 ],
 "mensurationCapabilities": "Basic",
 "hasHistograms": true,
 "hasColormap": false,
 "hasRasterAttributeTable": false,
 "minScale": 0,
 "maxScale": 0,
 "exportTilesAllowed": false,
 "supportsStatistics": false,
 "supportsAdvancedQueries": false,
 "editFieldsInfo": null,
 "ownershipBasedAccessControlForRasters": null,
 "allowComputeTiePoints": false,
 "useStandardizedQueries": true,
 "advancedQueryCapabilities": {
  "useStandardizedQueries": true,
  "supportsStatistics": false,
  "supportsOrderBy": false,
  "supportsDistinct": false,
  "supportsPagination": false
 },
 "spatialReference": {
  "wkid": 102630,
  "latestWkid": 102630
 }
}
