View In:
ArcGIS JavaScript
ArcGIS Online Map Viewer
ArcGIS Earth
Service Description: AMRD_Files/AMRD_DentonReef_MultibeamSonar
Name: AMRD_Files/AMRD_DentonReef_MultibeamSonar
Description:
Single Fused Map Cache: false
Extent:
XMin: 1788425.3812123504
YMin: 149097.7134076572
XMax: 1790768.0499985048
YMax: 151236.8101607988
Spatial Reference: 102630
(102630)
LatestVCSWkid(0)
Initial Extent:
XMin: 1788425.3812123504
YMin: 149097.7134076572
XMax: 1790768.0499985048
YMax: 151236.8101607988
Spatial Reference: 102630
(102630)
LatestVCSWkid(0)
Full Extent:
XMin: 1788425.3812123504
YMin: 149097.7134076572
XMax: 1790768.0499985048
YMax: 151236.8101607988
Spatial Reference: 102630
(102630)
LatestVCSWkid(0)
Pixel Size X: 1.59040650791199
Pixel Size Y: 1.5904065079119776
Band Count: 3
Pixel Type: U8
RasterFunction Infos: {"rasterFunctionInfos": [{
"name": "None",
"description": "",
"help": ""
}]}
Mensuration Capabilities: Basic
Inspection Capabilities:
Has Histograms: true
Has Colormap: false
Has Multi Dimensions : false
Rendering Rule:
Min Scale: 0
Max Scale: 0
Copyright Text:
Service Data Type: esriImageServiceDataTypeRGB
Min Values: 0, 0, 0
Max Values: 255, 255, 255
Mean Values: 1.282136175968705, 150.06179110677303, 135.36766781212984
Standard Deviation Values: 13.857180384828025, 18.42481747376514, 34.31003268637881
Object ID Field:
Fields:
None
Default Mosaic Method: Center
Allowed Mosaic Methods:
SortField:
SortValue: null
Mosaic Operator: First
Default Compression Quality: 75
Default Resampling Method: Bilinear
Max Record Count: null
Max Image Height: 4100
Max Image Width: 15000
Max Download Image Count: null
Max Mosaic Image Count: null
Allow Raster Function: true
Allow Copy: true
Allow Analysis: true
Allow Compute TiePoints: false
Supports Statistics: false
Supports Advanced Queries: false
Use StandardizedQueries: true
Raster Type Infos:
Name: Raster Dataset
Description: Supports all ArcGIS Raster Datasets
Help:
Has Raster Attribute Table: false
Edit Fields Info: null
Ownership Based AccessControl For Rasters: null
Child Resources:
Info
Histograms
Statistics
Key Properties
Legend
Raster Function Infos
Supported Operations:
Export Image
Identify
Measure
Compute Histograms
Compute Statistics Histograms
Get Samples
Compute Class Statistics
Query Boundary
Compute Pixel Location
Compute Angles
Validate
Project