{
 "currentVersion": 11.4,
 "serviceDescription": "AMRD_Files/AMRD_DentonReef_MultibeamSonar",
 "name": "AMRD_Files/AMRD_DentonReef_MultibeamSonar",
 "description": "",
 "extent": {
  "xmin": 1788425.3812123504,
  "ymin": 149097.7134076572,
  "xmax": 1790768.0499985048,
  "ymax": 151236.8101607988,
  "spatialReference": {
   "wkid": 102630,
   "latestWkid": 102630
  }
 },
 "initialExtent": {
  "xmin": 1788425.3812123504,
  "ymin": 149097.7134076572,
  "xmax": 1790768.0499985048,
  "ymax": 151236.8101607988,
  "spatialReference": {
   "wkid": 102630,
   "latestWkid": 102630
  }
 },
 "fullExtent": {
  "xmin": 1788425.3812123504,
  "ymin": 149097.7134076572,
  "xmax": 1790768.0499985048,
  "ymax": 151236.8101607988,
  "spatialReference": {
   "wkid": 102630,
   "latestWkid": 102630
  }
 },
 "sortableFields": "",
 "bandCount": 3,
 "pixelType": "U8",
 "minValues": [
  0,
  0,
  0
 ],
 "maxValues": [
  255,
  255,
  255
 ],
 "meanValues": [
  1.282136175968705,
  150.06179110677303,
  135.36766781212984
 ],
 "stdvValues": [
  13.857180384828025,
  18.42481747376514,
  34.31003268637881
 ],
 "hasMultidimensions": false,
 "pixelSizeX": 1.59040650791199,
 "pixelSizeY": 1.5904065079119776,
 "meanPixelSize": 0.48475687312531895,
 "datasetFormat": "FGDBR",
 "uncompressedSize": 5943555,
 "blockWidth": 128,
 "blockHeight": 128,
 "compressionType": "LZ77",
 "bandNames": [
  "Band_1",
  "Band_2",
  "Band_3"
 ],
 "allowCopy": true,
 "allowAnalysis": true,
 "itemAccess": false,
 "inspectionCapabilities": "",
 "minPixelSize": 0,
 "maxPixelSize": 0,
 "copyrightText": "",
 "serviceDataType": "esriImageServiceDataTypeRGB",
 "serviceSourceType": "esriImageServiceSourceTypeDataset",
 "objectIdField": "",
 "fields": [],
 "capabilities": "Image,Metadata,Mensuration",
 "defaultMosaicMethod": "Center",
 "allowedMosaicMethods": "",
 "sortField": "",
 "sortValue": null,
 "sortAscending": true,
 "mosaicOperator": "First",
 "defaultCompressionQuality": 75,
 "defaultResamplingMethod": "Bilinear",
 "maxImageHeight": 4100,
 "maxImageWidth": 15000,
 "allowRasterFunction": true,
 "rasterFunctionInfos": [
  {
   "name": "None",
   "description": "",
   "help": ""
  }
 ],
 "rasterTypeInfos": [
  {
   "name": "Raster Dataset",
   "description": "Supports all ArcGIS Raster Datasets",
   "help": ""
  }
 ],
 "mensurationCapabilities": "Basic",
 "hasHistograms": true,
 "hasColormap": false,
 "hasRasterAttributeTable": false,
 "minScale": 0,
 "maxScale": 0,
 "exportTilesAllowed": false,
 "supportsStatistics": false,
 "supportsAdvancedQueries": false,
 "editFieldsInfo": null,
 "ownershipBasedAccessControlForRasters": null,
 "allowComputeTiePoints": false,
 "useStandardizedQueries": true,
 "advancedQueryCapabilities": {
  "useStandardizedQueries": true,
  "supportsStatistics": false,
  "supportsOrderBy": false,
  "supportsDistinct": false,
  "supportsPagination": false
 },
 "spatialReference": {
  "wkid": 102630,
  "latestWkid": 102630
 }
}
